BEGIN:VCALENDAR
VERSION:2.0
PRODID:Events Booking
BEGIN:VEVENT
UID:69e73a11759af
SUMMARY:GP2W Borrel 
DESCRIPTION:Elke 2 maanden organiseren wij een borrel voor de leden van GP2
 W om onder het genot van een lekker wijntje of ander drankje gezellig met 
 elkaar te netwerken en beter te leren kennen. Dit doen we op een vaste loc
 atie in de buurt van kantoor\, Wijnbar de Avonden op de Kleiweg. 
 Kom j
 ij ook?
 NB. Kosten zijn voor eigen rekening en bij binnenkomst meld je b
 ij de bar met jouw naam en jouw bestelling(en). 
LOCATION:Kleiweg\, Rotterdam\, 3051GS South Holland\, Netherlands
DTSTART:20260211T160000Z
DTEND:20260211T180000Z
DTSTAMP:20260120T082553Z
ORGANIZER;CN=Good Place 2 Work:MAILTO:info@goodplace2work.com
GEO:51.945022;4.480297
X-APPLE-STRUCTURED-LOCATION;VALUE=URI;X-ADDRESS=Kleiweg\, Rotterdam\, 3051G
 S South Holland\, Netherlands;X-APPLE-RADIUS=72;X-TITLE=Wijnbar de Avonden
 :51.945022;4.480297
END:VEVENT
END:VCALENDAR